BEGIN:VCALENDAR
VERSION:2.0
PRODID:-//wp-events-plugin.com//7.2.3.1//EN
BEGIN:VEVENT
UID:289@culturesetpatrimoines.bj
DTSTART:20250420T230000Z
DTEND:20250420T230000Z
DTSTAMP:20250417T134030Z
URL:https://culturesetpatrimoines.bj/evenements/pic-nic-pascal/
SUMMARY:PIC NIC PASCAL!
DESCRIPTION:Ouidah se met en mode chill le 21 avril avec le PIC NIC PASCAL 
 ! Bien plus qu'une simple sortie\, c'est une expérience à ne pas manquer
 . Un jardin stylé\, une ambiance musicale assurée par des DJs au top\, d
 es stands variés\, des jeux délirants\, des gens stylés... et toi au c
 œur de tout ça ! Viens te détendre\, danser\, faire des rencontres et v
 ivre une Pâques différente. L'entrée est à 2.000 FCFA. Rendez-vous au 
 Jardin de la Maison de la Culture de 14h à minuit. Le dress code : Blanc 
 pour les hommes\, Rose pour les femmes. Prépare ton outfit et viens kiffe
 r !
ATTACH;FMTTYPE=image/jpeg:https://culturesetpatrimoines.bj/wp-content/uplo
 ads/2025/04/491814449_1054151646759976_6972037417773987622_n.jpg
CATEGORIES:Festival
END:VEVENT
END:VCALENDAR