BEGIN:VCALENDAR
VERSION:2.0
PRODID:-//wp-events-plugin.com//7.2.3.1//EN
BEGIN:VEVENT
UID:244@culturesetpatrimoines.bj
DTSTART:20250302T153000Z
DTEND:20250302T153000Z
DTSTAMP:20250228T163032Z
URL:https://culturesetpatrimoines.bj/evenements/recre-zone/
SUMMARY:RÉCRÉ ZONE
DESCRIPTION:Envie de vous détendre et de vous amuser ? Rejoignez la RÉCR
 É ZONE pour un moment de récréation unique\, créé pour et par le publ
 ic. L'équipe de Magic Récré vous propose 60 minutes de jeux et de rires
  en plein air. C'est l'occasion idéale pour se déconnecter\, rencontrer 
 de nouvelles personnes et partager des moments de pure joie. Rendez-vous c
 e dimanche 2 mars à partir de 16h30 à la place l’Amazone.
ATTACH;FMTTYPE=image/jpeg:https://culturesetpatrimoines.bj/wp-content/uplo
 ads/2025/02/WhatsApp-Image-2025-02-28-at-10.32.11.jpeg
CATEGORIES:Découverte
LOCATION:Place de l'Amazone\, 8CX5+H3J\, Boulevard de la Marina\, Cotonou\,
  Cotonou\, Littoral\, Bénin
X-APPLE-STRUCTURED-LOCATION;VALUE=URI;X-ADDRESS=8CX5+H3J\, Boulevard de la 
 Marina\, Cotonou\, Cotonou\, Littoral\, Bénin;X-APPLE-RADIUS=100;X-TITLE=
 Place de l'Amazone:geo:0,0
END:VEVENT
END:VCALENDAR