BEGIN:VCALENDAR
VERSION:2.0
PRODID:-//wp-events-plugin.com//7.2.3.1//EN
BEGIN:VEVENT
UID:186@culturesetpatrimoines.bj
DTSTART:20250125T180000Z
DTEND:20250125T210000Z
DTSTAMP:20250121T144825Z
URL:https://culturesetpatrimoines.bj/evenements/restitution-les-voix-du-gu
 elede/
SUMMARY:Restitution: Les Voix du Guèlèdè
DESCRIPTION:L'institut français du Bénin met en lumière l’effervescenc
 e des industries culturelles au pays par des expositions et des événemen
 ts culturels et artistiques. Pour cette semaine accueillez la restitution 
 intitulée Les Voix du Guèlèdè par Cecilia SLONGO le 25 janvier 2025 au
  centre chorégraphique Multicorps à 19h. Passez partager de belles expé
 riences avec vos proches lors cet événement culturel. Pour toute informa
 tion supplémentaire \n\n Facebook
ATTACH;FMTTYPE=image/jpeg:https://culturesetpatrimoines.bj/wp-content/uplo
 ads/2025/01/Capture-decran_21-1-2025_102053_web.facebook.com_.jpeg
CATEGORIES:Culture,Découverte
LOCATION:Centre chorégraphique Multicorps\, Menontin\, cotonou\, Littoral\
 , Bénin
X-APPLE-STRUCTURED-LOCATION;VALUE=URI;X-ADDRESS=Menontin\, cotonou\, Littor
 al\, Bénin;X-APPLE-RADIUS=100;X-TITLE=Centre chorégraphique Multicorps:g
 eo:0,0
END:VEVENT
END:VCALENDAR