BEGIN:VCALENDAR
VERSION:2.0
PRODID:-//wp-events-plugin.com//7.2.3.1//EN
BEGIN:VEVENT
UID:79@culturesetpatrimoines.bj
DTSTART;VALUE=DATE:20231215
DTEND;VALUE=DATE:20240401
DTSTAMP:20240220T184751Z
URL:https://culturesetpatrimoines.bj/evenements/revelation-art-contemporai
 n-du-benin/
SUMMARY:Révélation: Art contemporain du Bénin
DESCRIPTION:Du 15 décembre 2023 au 31 mars 2024\, l'ADAC Bénin\, en colla
 boration avec la Fondation Clément\, vous convie à plonger dans l'exposi
 tion captivante intitulée "Révélation ! Art contemporain du Bénin"\, q
 ui se déroulera en Martinique. Préparez-vous à découvrir le génie cr
 éatif de 42 artistes béninois\, ainsi que de leur diaspora\, et laissez-
 vous transporter par ce périple artistique exceptionnel.
ATTACH;FMTTYPE=image/jpeg:https://culturesetpatrimoines.bj/wp-content/uplo
 ads/2023/12/conten.jpg
CATEGORIES:Découverte,Exposition
END:VEVENT
END:VCALENDAR