BEGIN:VCALENDAR
VERSION:2.0
PRODID:-//wp-events-plugin.com//7.2.3.1//EN
BEGIN:VEVENT
UID:231@culturesetpatrimoines.bj
DTSTART:20250219T230000Z
DTEND:20250220T230000Z
DTSTAMP:20250219T162035Z
URL:https://culturesetpatrimoines.bj/evenements/safen-2025/
SUMMARY:SAFEN 2025
DESCRIPTION:Le Salon Africain des Femmes dans l'Entrepreneuriat et le Numé
 rique (SAFEN) revient les 20 et 21 février 2025 à l'Azalaï Hôtel ! Cet
  événement incontournable réunira des entrepreneures\, des pionnières 
 et des passionnées du digital autour du thème "Femmes et innovation: Ins
 pirer\, conquérir et accélérer la transformation numérique en Afrique"
 . Ne manquez pas cette opportunité unique de vous inspirer\, d'élargir v
 otre réseau et de développer votre potentiel.\n\nPour plus d’informati
 on\, cliquez ici \n\nhttps://bit.ly/InscriptionSAFEN2025
ATTACH;FMTTYPE=image/jpeg:https://culturesetpatrimoines.bj/wp-content/uplo
 ads/2025/02/480475609_651587737534183_9150526508549220515_n.jpg
CATEGORIES:Formation,Master class
END:VEVENT
END:VCALENDAR