BEGIN:VCALENDAR
VERSION:2.0
PRODID:-//wp-events-plugin.com//7.2.3.1//EN
BEGIN:VEVENT
UID:165@culturesetpatrimoines.bj
DTSTART:20250215T190000Z
DTEND:20250215T190000Z
DTSTAMP:20250115T115439Z
URL:https://culturesetpatrimoines.bj/evenements/soiree-de-gala-valentine/
SUMMARY:Soirée de Gala Valentine
DESCRIPTION:Le 15 février 2025\, Italie plus précisément Milan accueille
  une soirée de Gala Valentine\npour célébrer l’amour au cours de laqu
 elle notre belle Fanny Sènan\, artiste béninoise\nfera son show et vous 
 emportera avec sa mélodie et son rythme particulier.
ATTACH;FMTTYPE=image/jpeg:https://culturesetpatrimoines.bj/wp-content/uplo
 ads/2025/01/473261354_1105798358005292_5412083294253729826_n.jpg
CATEGORIES:Concert
END:VEVENT
END:VCALENDAR