BEGIN:VCALENDAR
VERSION:2.0
PRODID:-//wp-events-plugin.com//7.2.3.1//EN
BEGIN:VEVENT
UID:275@culturesetpatrimoines.bj
DTSTART:20250410T170000Z
DTEND:20250410T210000Z
DTSTAMP:20250407T140746Z
URL:https://culturesetpatrimoines.bj/evenements/soiree-live/
SUMMARY:Soirée Live
DESCRIPTION:Le concerto ré ouvre ses portes bientôt. Un espace qui devien
 dra le lieu de référence des spectacles lives et autres. Pour ce faire\,
  un nouveau concept de live acoustique et de Karaoké aux ambiances afro p
 op\, soul\, jazz et bien d’autres est en train de voir le jour. Nous vou
 s invitons à nous rejoindre ce jeudi 10 Avril à 18h pour explorer les d
 ébuts de ce concept et profiter d’une soirée agréable et riche en per
 formance musicale. L’entrée est libre et gratuite\, donc pas d’excuse
 s. Ne vous faites pas conter cette soirée.
ATTACH;FMTTYPE=image/jpeg:https://culturesetpatrimoines.bj/wp-content/uplo
 ads/2025/04/WhatsApp-Image-2025-04-07-at-14.35.27.jpeg
CATEGORIES:Concert,Spectacle
LOCATION:Concerto\, Akpakpa à côté de la rôche\, Cotonou\, Littoral\, B
 énin
X-APPLE-STRUCTURED-LOCATION;VALUE=URI;X-ADDRESS=Akpakpa à côté de la rô
 che\, Cotonou\, Littoral\, Bénin;X-APPLE-RADIUS=100;X-TITLE=Concerto:geo:
 0,0
END:VEVENT
END:VCALENDAR