BEGIN:VCALENDAR
VERSION:2.0
PRODID:-//wp-events-plugin.com//7.2.3.1//EN
BEGIN:VEVENT
UID:309@culturesetpatrimoines.bj
DTSTART;VALUE=DATE:20250527
DTEND;VALUE=DATE:20250528
DTSTAMP:20250526T140915Z
URL:https://culturesetpatrimoines.bj/evenements/soolim/
SUMMARY:SOOLIM
DESCRIPTION:Quand SOOLIM touche un cœur généreux...\n\n&nbsp\;\n\nAu dé
 but du mois d'avril\, un monsieur m'avait écrit en privé pour me dire qu
 'il a vu la parution du livre que j'ai coécrit dans son feed Facebook. Il
  a voulu savoir si le livre suscitait de l'intérêt chez les gens et je l
 ui ai donné une réponse positive. Il m'a fait comprendre qu'il s'intére
 ssait beaucoup à l'ouvrage mais qu'il sait que la probabilité qu'il fini
 sse de le lire est très faible. Pour me soutenir\, il a pris un exemplair
 e du livre et maintenant il désire que je l'offre à une personne. Alors\
 , il m'a dit :« Je te mentirais si je te dis que je lirai ton livre si je
  le prends. (...) Je crois que quelqu'un d'autre en aura plus besoin que m
 oi.»\n\n&nbsp\;\n\nJ'ai été touchée par tant de générosité... Je pr
 éfère ne pas révéler l'identité de ce généreux donateur.\n\nJe sais
  qu'il lira ce post\, c'est pourquoi je profite de l'occasion pour lui té
 moigner encore une fois toute ma gratitude.\n\n&nbsp\;\n\nDans 24h exactem
 ent\, je vais lancer un challenge qui consistera à faire gagner Soolim à
  quelqu'un ici. Restez câblés et partagez cette publication afin d'infor
 mer d'autres personnes. Merci.
ATTACH;FMTTYPE=image/jpeg:https://culturesetpatrimoines.bj/wp-content/uplo
 ads/2025/05/500337784_1230153355350517_5336467571839402180_n.jpg
CATEGORIES:Concours,Jeu
END:VEVENT
END:VCALENDAR