BEGIN:VCALENDAR
VERSION:2.0
PRODID:-//wp-events-plugin.com//7.2.3.1//EN
BEGIN:VEVENT
UID:132@culturesetpatrimoines.bj
DTSTART:20241115T190000Z
DTEND:20241115T190000Z
DTSTAMP:20241114T150332Z
URL:https://culturesetpatrimoines.bj/evenements/spectacle-setchi/
SUMMARY:Spectacle : SÊTCHI
DESCRIPTION:Le 15 novembre 2024 à 20h\, ne manquez pas le spectacle “SÊ
 TCHI” au centre culturel OUADADA. Il s’inscrit dans le cadre du projet
  de formation théâtrale de jeunes comédien.enes béninois.es et la camp
 agne contre la violence de genre au Bénin.\n\n&nbsp\;
ATTACH;FMTTYPE=image/jpeg:https://culturesetpatrimoines.bj/wp-content/uplo
 ads/2024/11/Setchi_Recto_reseaux_sociauxjpg-930x620-1.jpg
CATEGORIES:Spectacle
LOCATION:Centre Culturel Ouadada\, Quartier Tokpota 1\, Porto-Novo\, Porto-
 Novo\, Bénin\, Plateau\, Bénin
X-APPLE-STRUCTURED-LOCATION;VALUE=URI;X-ADDRESS=Quartier Tokpota 1\, Porto-
 Novo\, Porto-Novo\, Bénin\, Plateau\, Bénin;X-APPLE-RADIUS=100;X-TITLE=C
 entre Culturel Ouadada:geo:0,0
END:VEVENT
END:VCALENDAR