BEGIN:VCALENDAR
VERSION:2.0
PRODID:-//wp-events-plugin.com//7.2.3.1//EN
BEGIN:VEVENT
UID:273@culturesetpatrimoines.bj
DTSTART:20250404T180000Z
DTEND:20250404T200000Z
DTSTAMP:20250403T145347Z
URL:https://culturesetpatrimoines.bj/evenements/trone-de-behanzin/
SUMMARY:Trône De Béhanzin!
DESCRIPTION:Vous souhaitez rencontrer Amir El presidente? \n\nIl vous donn
 e rendez-vous demain soir\, vendredi 4 avril 2025 de 19h à 21h \, au stan
 d Duchesse Châteaufort. L'équipe du Trône de Béhanzin sera également 
 présente. Vous pourrez discuter\, passer un bon moment et prendre des pho
 tos ensemble.
ATTACH;FMTTYPE=image/jpeg:https://culturesetpatrimoines.bj/wp-content/uplo
 ads/2025/04/488600248_1198174645010140_3566308913246775875_n.jpg
CATEGORIES:Culture
LOCATION:Palais des Congrès\, Boulevard de la Marina\, Cotonou\, Cotonou\,
  Littoral\, Littoral\, Bénin
X-APPLE-STRUCTURED-LOCATION;VALUE=URI;X-ADDRESS=Boulevard de la Marina\, Co
 tonou\, Cotonou\, Littoral\, Littoral\, Bénin;X-APPLE-RADIUS=100;X-TITLE=
 Palais des Congrès:geo:0,0
END:VEVENT
END:VCALENDAR