BEGIN:VCALENDAR
VERSION:2.0
PRODID:-//wp-events-plugin.com//7.2.3.1//EN
BEGIN:VEVENT
UID:169@culturesetpatrimoines.bj
DTSTART:20250831T230000Z
DTEND:20250912T230000Z
DTSTAMP:20250115T175006Z
URL:https://culturesetpatrimoines.bj/evenements/un-pas-vers-lavant/
SUMMARY:Un pas vers l’avant
DESCRIPTION:Le Festival International de danse et de formation Un pas vers 
 l’avant est de retour pour une nouvelle édition riche en activités. Da
 nseurs d’Afrique et de la Diaspora\, cette opportunité de danse et de f
 ormation qui aura lieu du 1er au 13 septembre 2025 est pour vous. Des acti
 vités diverses et intéressantes les unes que les autres vous seront prop
 osées pour faire de cette période un moment féérique. \n\nLa date lim
 ite de soumission est pour le 27 janvier 2025.
ATTACH;FMTTYPE=image/jpeg:https://culturesetpatrimoines.bj/wp-content/uplo
 ads/2025/01/471682746_586109360833134_8902481939292708316_n.jpg
CATEGORIES:Festival
END:VEVENT
END:VCALENDAR