BEGIN:VCALENDAR
VERSION:2.0
PRODID:-//wp-events-plugin.com//7.2.3.1//EN
BEGIN:VEVENT
UID:195@culturesetpatrimoines.bj
DTSTART:20250207T190000Z
DTEND:20250207T210000Z
DTSTAMP:20250127T183444Z
URL:https://culturesetpatrimoines.bj/evenements/wacinema/
SUMMARY:WàCinéma
DESCRIPTION:L’Espace Culturel le Centre débute sa programmation #WàCin
 éma cette année avec la projection du film « Tourbillons » d'Abdel Hak
 im A Laleye\, prévue pour le vendredi 07 février prochain. Ce long métr
 age de Laha Productions\, à la fois poignant\, divertissant et envoûtant
 \, nous entraîne dans une histoire qui dépasse les frontières de l'éth
 ique et du rationnel. « Tourbillons »\, le film portant le même nom que
  le roman d'Abdel Hakim A Laleye publié en 2014. Venez nombreux découvri
 r cette belle production ! ​\n\nFacebook
ATTACH;FMTTYPE=image/jpeg:https://culturesetpatrimoines.bj/wp-content/uplo
 ads/2025/01/Capture-decran_27-1-2025_95231_web.facebook.com_.jpeg
CATEGORIES:Spectacle
LOCATION:Espace Culturel Le Centre\, Le Centre\, Rue du collège ‘‘La P
 lénitude’’\, Quartier Lobozounkpa\, Godomey (Zone PK14)  \, Abomey-Ca
 lavi\,\, Atlantique\, Bénin\, Bénin
X-APPLE-STRUCTURED-LOCATION;VALUE=URI;X-ADDRESS=Le Centre\, Rue du collège
  ‘‘La Plénitude’’\, Quartier Lobozounkpa\, Godomey (Zone PK14)  \
 , Abomey-Calavi\,\, Atlantique\, Bénin\, Bénin;X-APPLE-RADIUS=100;X-TITL
 E=Espace Culturel Le Centre:geo:0,0
END:VEVENT
END:VCALENDAR