BEGIN:VCALENDAR
VERSION:2.0
PRODID:-//wp-events-plugin.com//7.2.3.1//EN
BEGIN:VEVENT
UID:133@culturesetpatrimoines.bj
DTSTART:20241128T193000Z
DTEND:20241128T193000Z
DTSTAMP:20241120T102750Z
URL:https://culturesetpatrimoines.bj/evenements/whendo-band/
SUMMARY:WHENDO BAND
DESCRIPTION:Le Lieu Unique vous accueille pour le retour du Whendo Band. Un
  spectacle avec des mélodies et des percussions attrayantes pour vous fai
 re passer une soirée spéciale et ambiancée.\n\nPrenez le rendez- vous p
 our le 28 Novembre à partir de 20h30\, ne le ratez surtout pas.\n\nLien p
 our plus d’informations:  Facebook\n\n&nbsp\;
ATTACH;FMTTYPE=image/jpeg:https://culturesetpatrimoines.bj/wp-content/uplo
 ads/2024/11/466733748_525047220515368_6600765236303784956_n.jpg
CATEGORIES:Spectacle
LOCATION:Le lieu unique\,  Cotonou - Fidjrossè En face de la Société Gé
 nérale Restaurant 08 Bp 67\, Cotonou\, Cotonou\, Littoral\, Bénin
X-APPLE-STRUCTURED-LOCATION;VALUE=URI;X-ADDRESS= Cotonou - Fidjrossè En fa
 ce de la Société Générale Restaurant 08 Bp 67\, Cotonou\, Cotonou\, Li
 ttoral\, Bénin;X-APPLE-RADIUS=100;X-TITLE=Le lieu unique:geo:0,0
END:VEVENT
END:VCALENDAR